BEGIN:VCALENDAR
VERSION:2.0
PRODID:-//Moritz Eggert - ECPv4.9.11//NONSGML v1.0//EN
CALSCALE:GREGORIAN
METHOD:PUBLISH
X-WR-CALNAME:Moritz Eggert
X-ORIGINAL-URL:https://www.moritzeggert.de
X-WR-CALDESC:Veranstaltungen für Moritz Eggert
BEGIN:VTIMEZONE
TZID:Europe/Helsinki
BEGIN:DAYLIGHT
TZOFFSETFROM:+0200
TZOFFSETTO:+0300
TZNAME:EEST
DTSTART:20220327T010000
END:DAYLIGHT
BEGIN:STANDARD
TZOFFSETFROM:+0300
TZOFFSETTO:+0200
TZNAME:EET
DTSTART:20221030T010000
END:STANDARD
END:VTIMEZONE
BEGIN:VEVENT
DTSTART;TZID=Europe/Helsinki:20220627T230000
DTEND;TZID=Europe/Helsinki:20220627T233000
DTSTAMP:20260423T121347
CREATED:20220602T075347Z
LAST-MODIFIED:20220602T075347Z
UID:1704-1656370800-1656372600@www.moritzeggert.de
SUMMARY:Der Komponist Moritz Eggert
DESCRIPTION:Er zählt zu den vielseitigsten Komponisten der Gegenwart\, schreibt Musik für Konzert\, Oper\, Tanz\, Film\, Bühne und Hörspiel. Mit Werken wie dem „Fußballoratorium“ oder seinem Zyklus „Hämmerklavier“ wurde er weit über die Szene der Neuen Musik bekannt. Daneben ist er einer der meinungsfreudigsten Künstler der Gegenwart und schreibt in einem eigenen Blog regelmäßig über Kultur und Kulturpolitik. \nAm Mikrofon: Andreas Göbel \n
URL:https://www.moritzeggert.de/termin/der-komponist-moritz-eggert/
LOCATION:RBB Kultur\, Germany
END:VEVENT
END:VCALENDAR