BEGIN:VCALENDAR
VERSION:2.0
PRODID:-//Moritz Eggert - ECPv4.9.11//NONSGML v1.0//EN
CALSCALE:GREGORIAN
METHOD:PUBLISH
X-WR-CALNAME:Moritz Eggert
X-ORIGINAL-URL:https://www.moritzeggert.de
X-WR-CALDESC:Veranstaltungen für Moritz Eggert
BEGIN:VTIMEZONE
TZID:Europe/Helsinki
BEGIN:DAYLIGHT
TZOFFSETFROM:+0200
TZOFFSETTO:+0300
TZNAME:EEST
DTSTART:20250330T010000
END:DAYLIGHT
BEGIN:STANDARD
TZOFFSETFROM:+0300
TZOFFSETTO:+0200
TZNAME:EET
DTSTART:20251026T010000
END:STANDARD
END:VTIMEZONE
BEGIN:VEVENT
DTSTART;TZID=Europe/Helsinki:20251028T080000
DTEND;TZID=Europe/Helsinki:20251028T170000
DTSTAMP:20260420T143958
CREATED:20250812T125001Z
LAST-MODIFIED:20250812T125001Z
UID:4397-1761638400-1761670800@www.moritzeggert.de
SUMMARY:Der Klang der Demokratie
DESCRIPTION:FREIRAUM SYNDIKAT Der Klang der Demokratie Performance für junge Erwachsene\n\nDie Termine\, Orte und Zeiten mit Details über Inhalte der Tour erscheinen demnächst.\nDie Projektseite errcht man über diesen Link: klang-der-demokratie.de/projekt.html \n(enthält Musik aus 9.10.1989\, bearbeitet von Lukas Dreyer) \n\n
URL:https://www.moritzeggert.de/termin/der-klang-der-demokratie/
LOCATION:Ulrichskirche Halle\, Halle\, Germany
END:VEVENT
END:VCALENDAR