BEGIN:VCALENDAR
VERSION:2.0
PRODID:-//Moritz Eggert - ECPv4.9.11//NONSGML v1.0//EN
CALSCALE:GREGORIAN
METHOD:PUBLISH
X-WR-CALNAME:Moritz Eggert
X-ORIGINAL-URL:https://www.moritzeggert.de
X-WR-CALDESC:Veranstaltungen für Moritz Eggert
BEGIN:VTIMEZONE
TZID:Europe/Helsinki
BEGIN:DAYLIGHT
TZOFFSETFROM:+0200
TZOFFSETTO:+0300
TZNAME:EEST
DTSTART:20230326T010000
END:DAYLIGHT
BEGIN:STANDARD
TZOFFSETFROM:+0300
TZOFFSETTO:+0200
TZNAME:EET
DTSTART:20231029T010000
END:STANDARD
END:VTIMEZONE
BEGIN:VEVENT
DTSTART;TZID=Europe/Helsinki:20230630T193000
DTEND;TZID=Europe/Helsinki:20230630T210000
DTSTAMP:20260421T191344
CREATED:20230519T144201Z
LAST-MODIFIED:20230519T144201Z
UID:2697-1688153400-1688158800@www.moritzeggert.de
SUMMARY:Das Auge der Zeit
DESCRIPTION:\n(c) Jelena Staubach \nAuf den Spuren des Phänomens Zeit verbindet das COLLIDE Quartett das klassische Kunstlied mit szenischer Darstellung\, literarischen Texten und visuellen Eindrücken zu einem multimedialen Erlebnis. \nVom englischen Wort für »aufeinanderprallen« (kollidieren\, sich überschneiden) leitet das Quartett seinen Namen ab. In dem kontrast- und facettenreichen musikalischen Repertoire kollidieren klassische Vokalmusik auf moderne Zukunftsklänge. Der Bariton Benjamin Hewat-Craw\, die Sopranistin Sophia Körber\, die Pianistin Franziska Staubach und die Stimm- und Performancekünstleri­n Lara Süß begeistern ihr Publikum mit einem ungewöhnlichen Wechselspiel der Künste. \nVom Liedgesang ausgehend hat das Quartett ein innovatives Programm entwickelt\, in dem sich Schauspiel\, Literatur\, Performance und Videoeinspielungen miteinander verflechten. Dadurch wird das klassische Konzertformat des Liederabends über das Thema Zeit mit Musik von Hugo Wolf\, Moritz Eggert oder Franz Schubert und Texten von Shakespeare durchbrochen und auf eine andere Ebene gehoben. Es entsteht ein neues Konzerterlebnis. Mit ihrem bühnenerprobten szenischen Abend »Das Auge der Zeit«\, das einem interdisziplinären Ansatz folgt\, waren die vier KünstlerInnen aus Nordrhein-Westfalen 2022 für den KlassikSommer Musikpreis der Stadt Hamm nominiert. \nÜber die KünstlerInnen \nSophia Körber verzaubert mit ihrem sagenhaft sinnbetörenden Sopran das Publikum von Wien bis Berlin\, von Tongyeong bis Kronberg. Sie beeindruckt und brilliert in Barockarien\, widmet sich hingebungsvoll der Neuen Musik und verkörpert auf der Bühne mühelos die unterschiedlichsten Rollen. Besonderes Merkmal: Hat den Plan (oder einen schillernden Alternativplan) und steckt die Ensemblemitglieder mit ihrem überschäumenden Temperament an. \nDie Finger der Pianistin Franziska Staubach tanzen\, tosen\, toben mit Leidenschaft und Leichtigkeit unermüdlich über ihr Instrument – fantasievoll und facettenreich interpretiert sie Lieder\, Arien sowie Sololiteratur. Mal sensibel und einfühlsam\, dann wieder energisch und dynamisch kann man sich der Wirkung ihres preisgekrönten Spiels nicht entziehen. Besonderes Merkmal: Ihre empathische Art macht sie zu einer beliebten Gesprächspartnerin – löst Konflikte in null komma nix. \nAls kreativer Freigeist und Universalgenie improvisiert Lara Süß auf den Brettern\, die die Welt bedeuten. Ihr Herz schlägt für alle unerhörten Töne\, unvermuteten Kollaborationen sowie unerwarteten Bilder. Ihr unerschöpflicher Ideenreichtum ist legendär. Assoziativ und intuitiv verbindet sie Musik\, Sprache und Szene. Ihrem scharfsinnigen Blick entgeht nichts. Besonderes Merkmal: sie nimmt mit ihrer natürlichen Bühnenpräsenz ihr Publikum ein und macht Worte haptisch spürbar. \nDer junge Engländer Benjamin Hewat-Craw besticht durch seinen flexiblen\, vielseitigen Stimmklang. Er fesselt die Kritiker mit seinem farbenreichen Bariton und einer klaren Diktion\, er fasziniert die Zuhörenden mit filigraner Präzision und stets durchdachten\, innig musizierten Interpretationen deutscher und englischer Liedkunst. Besonderes Merkmal: überrascht mit erstaunlichem Hintergrundwissen aus Literatur und Geschichte\, bringt die Sachen auf den Punkt. \nTickets \nVVK: 18 Euro/erm. 10 Euro zzgl. Kassengebühren\nKonzertkasse Gerdes / 040 – 44 02 98 / Alle Vorverkaufsstellen\nAbendkasse: 20 Euro/erm. 12 Euro\nErmäßigung hat ihre Gültigkeit für Studenten und Menschen mit Behinderungen und Sozialhilfeempfänger unter Vorlage des entsprechenden Nachweises.\nReservierung:\nper E-Mail info@tsaal.de \nPreis/Tickets (ab): TicketsVVK: 18 Euro \n\n
URL:https://www.moritzeggert.de/termin/das-auge-der-zeit-2/
LOCATION:Hamburg\, Tschaikowskyplatz 2\, Hamburg\, 20355\, Germany
END:VEVENT
END:VCALENDAR