BEGIN:VCALENDAR
VERSION:2.0
PRODID:-//Moritz Eggert - ECPv4.9.11//NONSGML v1.0//EN
CALSCALE:GREGORIAN
METHOD:PUBLISH
X-WR-CALNAME:Moritz Eggert
X-ORIGINAL-URL:https://www.moritzeggert.de
X-WR-CALDESC:Veranstaltungen für Moritz Eggert
BEGIN:VTIMEZONE
TZID:Europe/Helsinki
BEGIN:DAYLIGHT
TZOFFSETFROM:+0200
TZOFFSETTO:+0300
TZNAME:EEST
DTSTART:20250330T010000
END:DAYLIGHT
BEGIN:STANDARD
TZOFFSETFROM:+0300
TZOFFSETTO:+0200
TZNAME:EET
DTSTART:20251026T010000
END:STANDARD
END:VTIMEZONE
BEGIN:VEVENT
DTSTART;TZID=Europe/Helsinki:20250614T190000
DTEND;TZID=Europe/Helsinki:20250614T210000
DTSTAMP:20260423T105234
CREATED:20250317T091828Z
LAST-MODIFIED:20250317T091828Z
UID:4095-1749927600-1749934800@www.moritzeggert.de
SUMMARY:Daniela Mineva\, piano and Mirosslav Dimov\, percussion
DESCRIPTION:Sofia Music Weeks Festival \nMoritz Eggert: „The Collectors“ for piano and percussion \nBulgaria Hall\, Sofia \n
URL:https://www.moritzeggert.de/termin/daniela-mineva-piano-and-mirosslav-dimov-percussion/
LOCATION:Bulgaria Hall\, Sofia\, Bulgaria
END:VEVENT
END:VCALENDAR