BEGIN:VCALENDAR
VERSION:2.0
PRODID:-//Moritz Eggert - ECPv4.9.11//NONSGML v1.0//EN
CALSCALE:GREGORIAN
METHOD:PUBLISH
X-WR-CALNAME:Moritz Eggert
X-ORIGINAL-URL:https://www.moritzeggert.de
X-WR-CALDESC:Veranstaltungen für Moritz Eggert
BEGIN:VTIMEZONE
TZID:Europe/Helsinki
BEGIN:DAYLIGHT
TZOFFSETFROM:+0200
TZOFFSETTO:+0300
TZNAME:EEST
DTSTART:20210328T010000
END:DAYLIGHT
BEGIN:STANDARD
TZOFFSETFROM:+0300
TZOFFSETTO:+0200
TZNAME:EET
DTSTART:20211031T010000
END:STANDARD
END:VTIMEZONE
BEGIN:VEVENT
DTSTART;TZID=Europe/Helsinki:20211123T000000
DTEND;TZID=Europe/Helsinki:20211123T020000
DTSTAMP:20260424T102954
CREATED:20211004T075147Z
LAST-MODIFIED:20211004T075147Z
UID:1298-1637625600-1637632800@www.moritzeggert.de
SUMMARY:Concerto Bavarese
DESCRIPTION:Peter Stangel: „Lilith-Concerto“ (Mark Tiktiner\, Violine; Die Taschenphilharmonie: Peter Stangel); Tom Sora: „frei sein“ (Johannes Öllinger\, Martin Steuber\, Gitarre\, Sprecher); Henry Purcell/Sebastian Hess: „King Arthur“\, Die Frost-Szene (Roeland Gehlen\, Violine; Sophia Reuter; Viola; Sebastian Hess\, Violoncello; Markus Schieferdecker\, Kontrabass; Norbert Gabla\, Bandoneon; Andreas Blüml\, Gitarre); Minas Borboudakis: „constellation“ (Symphonieorchester des Bayerischen Rundfunks: Johannes Kalitzke); Moritz Eggert: „Eiserner Vorhang“ (Felix Kolb\, Leon Lorenz\, Hyunjoon Park\, Davide Lovato\, Perkussion); Peter Michael Hamel: „So fern“ (Christina Ascher\, Mezzosopran; Hermann Klemeyer\, Flöte; Johannes Fischer\, Klavier; Edith Salmen-Weber\, Schlagzeug); Tobias PM Schneid: Violoncellokonzert Nr. 2 (Maximilian Hornung\, Violoncello; Münchener Kammerorchester: John Storgårds) \n
URL:https://www.moritzeggert.de/termin/concerto-bavarese-5/
LOCATION:Bayern 2\, Germany
END:VEVENT
END:VCALENDAR