BEGIN:VCALENDAR
VERSION:2.0
PRODID:-//Moritz Eggert - ECPv4.9.11//NONSGML v1.0//EN
CALSCALE:GREGORIAN
METHOD:PUBLISH
X-WR-CALNAME:Moritz Eggert
X-ORIGINAL-URL:https://www.moritzeggert.de
X-WR-CALDESC:Veranstaltungen für Moritz Eggert
BEGIN:VTIMEZONE
TZID:Europe/Helsinki
BEGIN:DAYLIGHT
TZOFFSETFROM:+0200
TZOFFSETTO:+0300
TZNAME:EEST
DTSTART:20210328T010000
END:DAYLIGHT
BEGIN:STANDARD
TZOFFSETFROM:+0300
TZOFFSETTO:+0200
TZNAME:EET
DTSTART:20211031T010000
END:STANDARD
END:VTIMEZONE
BEGIN:VEVENT
DTSTART;TZID=Europe/Helsinki:20210323T000000
DTEND;TZID=Europe/Helsinki:20210323T140000
DTSTAMP:20260421T142839
CREATED:20210326T080002Z
LAST-MODIFIED:20210326T080002Z
UID:816-1616457600-1616508000@www.moritzeggert.de
SUMMARY:Concerto Bavarese
DESCRIPTION:Markus Zahnhausen: „Kirschblüten-Caprice“ (Aki Sunahara\, Violine); Moritz Eggert: „Singet leise“ (Irene Kurka\, Sopran; Moritz Eggert\, Klavier); Jan Müller-Wieland: „Weiß trennt sich von schwarz“ (Tamara Stefanovich\, Klavier); Hans Rott/Enjott Schneider: „Balde ruhest du auch“ (Michael Volle\, Bariton; Münchner Symphoniker: Hansjörg Albrecht); Isabel Mundry/Brice Pauset: „Die Vorüberlaufenden“ (Carin Levine\, Flöte; Lyndon Watts\, Fagott; Graham Waterhouse\, Violoncello); Konstantia Gourzi: „Senada meets Aida“ (Ensemble Oktopus: Konstantia Gourzi); Markus Zahnhausen: „Recordare“ (Michala Petri\, Blockflöte; Odense Symphony Orchestra: Christoph Poppen) \nhttps://www.br.de/radio/bayern2/programmkalender/sendung-3005202.html \n
URL:https://www.moritzeggert.de/termin/concerto-bavarese-4/
END:VEVENT
END:VCALENDAR