BEGIN:VCALENDAR
VERSION:2.0
PRODID:-//Moritz Eggert - ECPv4.9.11//NONSGML v1.0//EN
CALSCALE:GREGORIAN
METHOD:PUBLISH
X-WR-CALNAME:Moritz Eggert
X-ORIGINAL-URL:https://www.moritzeggert.de
X-WR-CALDESC:Veranstaltungen für Moritz Eggert
BEGIN:VTIMEZONE
TZID:Europe/Helsinki
BEGIN:DAYLIGHT
TZOFFSETFROM:+0200
TZOFFSETTO:+0300
TZNAME:EEST
DTSTART:20260329T010000
END:DAYLIGHT
BEGIN:STANDARD
TZOFFSETFROM:+0300
TZOFFSETTO:+0200
TZNAME:EET
DTSTART:20261025T010000
END:STANDARD
END:VTIMEZONE
BEGIN:VEVENT
DTSTART;TZID=Europe/Helsinki:20260122T000000
DTEND;TZID=Europe/Helsinki:20260122T010000
DTSTAMP:20260425T113158
CREATED:20251216T112729Z
LAST-MODIFIED:20251216T112729Z
UID:4601-1769040000-1769043600@www.moritzeggert.de
SUMMARY:Concerto Bavarese
DESCRIPTION:\nConcerto bavarese Bayerische Komponisten\n\n\n\nNacht auf Donnerstag\, 22.01.2026\n00:10 bis 02:00 Uhr \nBAYERN 2 \n\n\nMoritz Eggert: „Hibernalische Gesänge“ (Friederike Wagner\, Sopran; Silvia Fichtl\, Alt; Rainer Trost\, Tenor; Markus Hollop\, Bass); Josef Anton Riedl: „Klangsynchronie I“\, Studie 59 (Joesf Anton Riedl\, Tonband; Alberto Vignani\, Lorenzo Ferrero\, Synthesizer); Walter Zimmermann: „Dialogue des deux roses“ (Neue Vocalsolisten Stuttgart; Meitar Ensemble); Harald Genzmer: Flötenkonzert (Andrea Lieberknecht\, Flöte; Rundfunk-Sinfonieorchester Saarbrücken: Werner Andreas Albert); Reinhard Schwarz-Schilling: Streichquartett f-Moll (Symphonia Momentum: Christoph Schlüren); Peter Michael Hamel: „Lanzelot im Wasser tief“ (Peter Michael Hamel\, Klavier) \n
URL:https://www.moritzeggert.de/termin/concerto-bavarese-39/
LOCATION:Bayern 2 Radio\, Germany
END:VEVENT
END:VCALENDAR