BEGIN:VCALENDAR
VERSION:2.0
PRODID:-//Moritz Eggert - ECPv4.9.11//NONSGML v1.0//EN
CALSCALE:GREGORIAN
METHOD:PUBLISH
X-WR-CALNAME:Moritz Eggert
X-ORIGINAL-URL:https://www.moritzeggert.de
X-WR-CALDESC:Veranstaltungen für Moritz Eggert
BEGIN:VTIMEZONE
TZID:Europe/Helsinki
BEGIN:DAYLIGHT
TZOFFSETFROM:+0200
TZOFFSETTO:+0300
TZNAME:EEST
DTSTART:20250330T010000
END:DAYLIGHT
BEGIN:STANDARD
TZOFFSETFROM:+0300
TZOFFSETTO:+0200
TZNAME:EET
DTSTART:20251026T010000
END:STANDARD
END:VTIMEZONE
BEGIN:VEVENT
DTSTART;TZID=Europe/Helsinki:20251023T000000
DTEND;TZID=Europe/Helsinki:20251023T010000
DTSTAMP:20260423T153208
CREATED:20251013T061847Z
LAST-MODIFIED:20251013T061847Z
UID:4511-1761177600-1761181200@www.moritzeggert.de
SUMMARY:Concerto Bavarese
DESCRIPTION:Hermann Regner: Acht Duette (Gerhard Zank\, Rupert Buchner\, Violoncello); Kay Westermann: „Wuthering Heights“ (Moritz Eggert\, Klavier; Barbara Kink\, Violine; Sebastian Hess\, Violoncello); Peter Stangel: „Rede des toten Christus vom Weltgebäude herab“ (Dominik Wilgenbus\, Sprecher; Die Taschenphilharmonie: Peter Stangel); Johannes X. Schachtner: „Dreizehn“ (Silke Avenhaus\, Klavier; Julia Galic\, Violine; Maximilian Hornung\, Violoncello); Peter Schuback: „Traummeere“ (Camilla Ueberschaer\, Alt; Andreas Ruppert\, Klavier); Erna Woll: „Manchmal\, weißt du“ (Wolfgang Holzmair\, Bariton; Thomas Palm\, Klavier) \n
URL:https://www.moritzeggert.de/termin/concerto-bavarese-36/
LOCATION:Bayern 2\, Germany
END:VEVENT
END:VCALENDAR