BEGIN:VCALENDAR
VERSION:2.0
PRODID:-//Moritz Eggert - ECPv4.9.11//NONSGML v1.0//EN
CALSCALE:GREGORIAN
METHOD:PUBLISH
X-WR-CALNAME:Moritz Eggert
X-ORIGINAL-URL:https://www.moritzeggert.de
X-WR-CALDESC:Veranstaltungen für Moritz Eggert
BEGIN:VTIMEZONE
TZID:Europe/Helsinki
BEGIN:DAYLIGHT
TZOFFSETFROM:+0200
TZOFFSETTO:+0300
TZNAME:EEST
DTSTART:20250330T010000
END:DAYLIGHT
BEGIN:STANDARD
TZOFFSETFROM:+0300
TZOFFSETTO:+0200
TZNAME:EET
DTSTART:20251026T010000
END:STANDARD
END:VTIMEZONE
BEGIN:VEVENT
DTSTART;TZID=Europe/Helsinki:20250902T003000
DTEND;TZID=Europe/Helsinki:20250902T020000
DTSTAMP:20260424T103025
CREATED:20250724T064240Z
LAST-MODIFIED:20250724T064240Z
UID:4371-1756773000-1756778400@www.moritzeggert.de
SUMMARY:Concerto Bavarese
DESCRIPTION:Nacht auf Dienstag\, 02.09.2025\n00:10 bis 02:00 Uhr \nBAYERN 2 \nMarkus Lehmann-Horn: „Eine Empörung“ (Münchner Philharmoniker: Santtu-Matias Rouvali); Alexander Strauch: „Frei nach Derrida: Mit Marx’ Gespenstern reden“ (Trio Abstrakt); Katharina Schmauder: „Skin“ (Zentaur-Quartett); Bernhard Weidner: „Dunkellied“ (Harald Lillmeyer\, Wolfgang Ostermeier\, Gitarre); Stefan Schulzki: „Der Sommer meines Lebens“ (Andreas Kirpal\, Klavier; Jane Berger\, Agnes Malich\, Violine; Verena Würtele\, Viola; Johannes Gutfleisch\, Violoncello; Stefan Schulzki\, Audiozuspielung); Helga Pogatschar: „Scary Meditation“ (Zentaur-Quartett); Johannes X. Schachtner: „Symphonischer Essay“ (Ensemble Zeitsprung: Markus Elsner); Markus Schmitt: „Echoi“ (Felix Seiffert\, Violoncello; Stefan Schulzki\, Klavier); Moritz Eggert: „Der ewige Gesang“ (Stuttgarter Kammerorchester: Michael Hofstetter) \n
URL:https://www.moritzeggert.de/termin/concerto-bavarese-34/
LOCATION:Bayern 2\, Germany
END:VEVENT
END:VCALENDAR