BEGIN:VCALENDAR
VERSION:2.0
PRODID:-//Moritz Eggert - ECPv4.9.11//NONSGML v1.0//EN
CALSCALE:GREGORIAN
METHOD:PUBLISH
X-WR-CALNAME:Moritz Eggert
X-ORIGINAL-URL:https://www.moritzeggert.de
X-WR-CALDESC:Veranstaltungen für Moritz Eggert
BEGIN:VTIMEZONE
TZID:Europe/Helsinki
BEGIN:DAYLIGHT
TZOFFSETFROM:+0200
TZOFFSETTO:+0300
TZNAME:EEST
DTSTART:20240331T010000
END:DAYLIGHT
BEGIN:STANDARD
TZOFFSETFROM:+0300
TZOFFSETTO:+0200
TZNAME:EET
DTSTART:20241027T010000
END:STANDARD
END:VTIMEZONE
BEGIN:VEVENT
DTSTART;TZID=Europe/Helsinki:20240711T000000
DTEND;TZID=Europe/Helsinki:20240711T010000
DTSTAMP:20260421T191410
CREATED:20240529T100524Z
LAST-MODIFIED:20240529T100524Z
UID:3569-1720656000-1720659600@www.moritzeggert.de
SUMMARY:Concerto Bavarese
DESCRIPTION:Harald Genzmer/Bertold Hummel/Moritz Eggert/Roland Leistner-Mayer: „Internetsinfonie nach drei Themen von Harald Genzmer“ (Hofer Symphoniker: Howard Golden); Moritz Eggert: „Ballack\, du geile Schnitte“ (Irene Kurka\, soprano; Martin Tchiba\, piano); Jörg Widmann: Lied (Bamberg Symphony Orchestra: Jonathan Nott); Eric Coates: „Four Centuries“ (East of England Orchestra: Malcolm Nabarro) \n
URL:https://www.moritzeggert.de/termin/concerto-bavarese-3/
LOCATION:Bayern 2\, Germany
END:VEVENT
END:VCALENDAR