BEGIN:VCALENDAR
VERSION:2.0
PRODID:-//Moritz Eggert - ECPv4.9.11//NONSGML v1.0//EN
CALSCALE:GREGORIAN
METHOD:PUBLISH
X-WR-CALNAME:Moritz Eggert
X-ORIGINAL-URL:https://www.moritzeggert.de
X-WR-CALDESC:Veranstaltungen für Moritz Eggert
BEGIN:VTIMEZONE
TZID:Europe/Helsinki
BEGIN:DAYLIGHT
TZOFFSETFROM:+0200
TZOFFSETTO:+0300
TZNAME:EEST
DTSTART:20240331T010000
END:DAYLIGHT
BEGIN:STANDARD
TZOFFSETFROM:+0300
TZOFFSETTO:+0200
TZNAME:EET
DTSTART:20241027T010000
END:STANDARD
END:VTIMEZONE
BEGIN:VEVENT
DTSTART;TZID=Europe/Helsinki:20240528T000000
DTEND;TZID=Europe/Helsinki:20240528T010000
DTSTAMP:20260423T152133
CREATED:20240426T133728Z
LAST-MODIFIED:20240426T133728Z
UID:3524-1716854400-1716858000@www.moritzeggert.de
SUMMARY:Concerto Bavarese
DESCRIPTION:\nConcerto bavarese Bayerische Komponisten\n\n\n\nNacht auf Dienstag\, 28.05.2024\n00:10 bis 02:00 Uhr \nBAYERN 2 \n\n\nPeter Stangel: „Cabaret Voltaire“\, Suite (Die Taschenphilharmonie: Peter Stangel); Moritz Eggert: „Lasst uns ungereimt sein“ (Christoph Prégardien\, Tenor; Moritz Eggert\, Klavier); Tobias PM Schneid: „symphony of changes“ (Münchener Kammerorchester: Christoph Poppen); Isabel Mundry: „Non-Places“ (Nicolas Hodges\, Klavier; Symphonieorchester des Bayerischen Rundfunks: Emilio Pomarico); Alexander Strauch: „Kampf von Ásmund und Hildebrand“ (Roman Payer\, Tenor; Timothy Sharp\, Bariton; Ensemble Schwerpunkt) \n
URL:https://www.moritzeggert.de/termin/concerto-bavarese-27/
LOCATION:Bayern 2\, Germany
END:VEVENT
END:VCALENDAR