BEGIN:VCALENDAR
VERSION:2.0
PRODID:-//Moritz Eggert - ECPv4.9.11//NONSGML v1.0//EN
CALSCALE:GREGORIAN
METHOD:PUBLISH
X-WR-CALNAME:Moritz Eggert
X-ORIGINAL-URL:https://www.moritzeggert.de
X-WR-CALDESC:Veranstaltungen für Moritz Eggert
BEGIN:VTIMEZONE
TZID:Europe/Helsinki
BEGIN:DAYLIGHT
TZOFFSETFROM:+0200
TZOFFSETTO:+0300
TZNAME:EEST
DTSTART:20240331T010000
END:DAYLIGHT
BEGIN:STANDARD
TZOFFSETFROM:+0300
TZOFFSETTO:+0200
TZNAME:EET
DTSTART:20241027T010000
END:STANDARD
END:VTIMEZONE
BEGIN:VEVENT
DTSTART;TZID=Europe/Helsinki:20240111T000000
DTEND;TZID=Europe/Helsinki:20240111T010000
DTSTAMP:20260425T111255
CREATED:20231212T105800Z
LAST-MODIFIED:20231212T105800Z
UID:3249-1704931200-1704934800@www.moritzeggert.de
SUMMARY:Concerto Bavarese
DESCRIPTION:\nConcerto bavarese Bayerische Komponisten\n\n\n\nNacht auf Donnerstag\, 11.01.2024\n00:10 bis 02:00 Uhr \nBAYERN 2 \n\n\nSophia Jani: Holzbläserquintett Nr. 1 – „Music as a Mirror“ (Dandelion Quintett); Simon Popp: „Odds in Favor“ (Simon Popp\, Schlagzeug; Dandelion Quintett); Konstantia Gourzi: „Call of the Bees 2“\, op. 77 b (Nils Mönkemeyer\, Viola; William Youn\, Klavier); Isabel Mundry: „Signaturen“ (Johannes Fischer\, Schlagzeug; GrauSchumacher Piano Duo; Ensemble Resonanz: Bas Wiegers); Markus Lehmann-Horn: „Eine Empörung“ (Münchner Philharmoniker: Santtu-Matias Rouvali); Johannes X. Schachtner: „Air – an Samuels Aerophon“ (Ensemble Zeitsprung); Enjott Schneider: Vier Gedichte nach Hermann Hesse (Peter Ullrich\, Bariton; Dorothea Hoffmann\, Klavier; Günter Andrich\, Marimbafon); Dorothea Hofmann: „Sehnsucht …“ (Christian Felix Benning\, Vibrafon; ensemble oktopus für musik der moderne: Konstantia Gourzi); Moritz Eggert: „Verlorene Gesänge“ (Süddeutsches Saxophon-Kammerorchester: Linda Bangs) \n
URL:https://www.moritzeggert.de/termin/concerto-bavarese-24/
LOCATION:Bayern 2 Radio\, Germany
END:VEVENT
END:VCALENDAR