BEGIN:VCALENDAR
VERSION:2.0
PRODID:-//Moritz Eggert - ECPv4.9.11//NONSGML v1.0//EN
CALSCALE:GREGORIAN
METHOD:PUBLISH
X-WR-CALNAME:Moritz Eggert
X-ORIGINAL-URL:https://www.moritzeggert.de
X-WR-CALDESC:Veranstaltungen für Moritz Eggert
BEGIN:VTIMEZONE
TZID:Europe/Helsinki
BEGIN:DAYLIGHT
TZOFFSETFROM:+0200
TZOFFSETTO:+0300
TZNAME:EEST
DTSTART:20230326T010000
END:DAYLIGHT
BEGIN:STANDARD
TZOFFSETFROM:+0300
TZOFFSETTO:+0200
TZNAME:EET
DTSTART:20231029T010000
END:STANDARD
END:VTIMEZONE
BEGIN:VEVENT
DTSTART;TZID=Europe/Helsinki:20230406T000000
DTEND;TZID=Europe/Helsinki:20230406T010000
DTSTAMP:20260421T083127
CREATED:20230309T091545Z
LAST-MODIFIED:20230309T091545Z
UID:2223-1680739200-1680742800@www.moritzeggert.de
SUMMARY:Concerto Bavarese
DESCRIPTION:\nConcerto bavarese Bayerische Komponisten\n\n\n\nNacht auf Donnerstag\, 06.04.2023\n00:10 bis 02:00 Uhr \nBAYERN 2 \n\n\nLiu Ching-Chiang: „@“ (Mitglieder des Ensemble oktopus); Sophia Jani: „The dark and the light and everything in between“ (Kontai Ensemble); Carlos Cipa: „And gently drops the rain“ (Carlos Cipa\, Klavier); Moritz Eggert: „Number Nine VII: Masse“ (Symphonieorchester des Bayerischen Rundfunks: Peter Rundel); Alexander Strauch: „Menschen Schneiden“ (Martin Jaggi\, Violoncello; Leopold Hurt\, Diskantzither); Gloria Coates: „Chiaroscuro“ (Stuttgarter Philharmoniker: Wolf-Dieter Hauschild); Minas Borboudakis: Klavierkonzert (Minas Borboudakis\, Klavier; Nürnberger Symphoniker: Konstantia Gourzi) \n
URL:https://www.moritzeggert.de/termin/concerto-bavarese-16/
LOCATION:Bayern 2\, Germany
END:VEVENT
END:VCALENDAR