BEGIN:VCALENDAR
VERSION:2.0
PRODID:-//Moritz Eggert - ECPv4.9.11//NONSGML v1.0//EN
CALSCALE:GREGORIAN
METHOD:PUBLISH
X-WR-CALNAME:Moritz Eggert
X-ORIGINAL-URL:https://www.moritzeggert.de
X-WR-CALDESC:Veranstaltungen für Moritz Eggert
BEGIN:VTIMEZONE
TZID:Europe/Helsinki
BEGIN:DAYLIGHT
TZOFFSETFROM:+0200
TZOFFSETTO:+0300
TZNAME:EEST
DTSTART:20210328T010000
END:DAYLIGHT
BEGIN:STANDARD
TZOFFSETFROM:+0300
TZOFFSETTO:+0200
TZNAME:EET
DTSTART:20211031T010000
END:STANDARD
END:VTIMEZONE
BEGIN:VEVENT
DTSTART;TZID=Europe/Helsinki:20210917T190000
DTEND;TZID=Europe/Helsinki:20210917T210000
DTSTAMP:20260423T120552
CREATED:20210629T091823Z
LAST-MODIFIED:20210825T122014Z
UID:1043-1631905200-1631912400@www.moritzeggert.de
SUMMARY:UA "Wer hat Angst vor dem König" für Sopran und Orchester (Change I\, Pyramidale)
DESCRIPTION:\n\n \n\n\nFr\, 17/09/2021\, 19:00 Uhr\n\n\nKomponierte Musik / Kinder und Jugendliche / Konzert\n\n\nCHANGE I\n\n\npyramidale#20 | TRANSITION\n\n\n \n\n\n Charlotte Seither: »Fünf Stücke den Fluss zu queren« für Orchester (2012)\n\n\n Viktoria Kaunzner: »Saiga Antilope« für Violine und zart besaitetes Orchester (2021\, UA)\n\n\n Susanne Stelzenbach: »warten.weiter.warten« für vier Akkordeons und Orchester (2021\, UA)\n\n\n Jobst Liebrecht: »Sinfonie Nr. 4« für Sopran und Orchester (2021\, UA)\n\n\n Katia Guedes: »Sitzen bleiben« für Sopran und Orchester (2021\, UA)\n\n\n Moritz Eggert: »Wer hat Angst vor dem König« für Sopran und Orchester (2021\, UA)\n\n\n \n\n\nJugendsinfonie-Orchester der „Hans Werner Henze Musikschule“ Marzahn-Hellersdorf https://www.field-notes.berlin/de/programm/60925/change-i\n\n\n\nIrene Kurka\, Sopran\nViktoria Kaunzner\, Violine\nKatia Guedes\, Sopran\nJobst Liebrecht\, Musikalische Leitung \n\n\n\n\n\nORWOhaus\nFrank-Zappa-Str. 19\, Berlin\nBarrierefreiheit: Sehbehinderung und Blindheit / motorische Einschränkungen / Hörbehinderung / kognitive Einschränkungen\n\n\nTicketpreis: Eintritt frei – Spenden erbeten\nKartenvorbestellung: 030-902934132\n\n\n\n\n\n\n
URL:https://www.moritzeggert.de/termin/change-i/
LOCATION:ORWO Haus\, Frank-Zappa-Straße 19\, Berlin\, Germany
END:VEVENT
END:VCALENDAR