BEGIN:VCALENDAR
VERSION:2.0
PRODID:-//Moritz Eggert - ECPv4.9.11//NONSGML v1.0//EN
CALSCALE:GREGORIAN
METHOD:PUBLISH
X-WR-CALNAME:Moritz Eggert
X-ORIGINAL-URL:https://www.moritzeggert.de
X-WR-CALDESC:Veranstaltungen für Moritz Eggert
BEGIN:VTIMEZONE
TZID:Europe/Helsinki
BEGIN:DAYLIGHT
TZOFFSETFROM:+0200
TZOFFSETTO:+0300
TZNAME:EEST
DTSTART:20240331T010000
END:DAYLIGHT
BEGIN:STANDARD
TZOFFSETFROM:+0300
TZOFFSETTO:+0200
TZNAME:EET
DTSTART:20241027T010000
END:STANDARD
END:VTIMEZONE
BEGIN:VEVENT
DTSTART;TZID=Europe/Helsinki:20241005T060000
DTEND;TZID=Europe/Helsinki:20241005T080000
DTSTAMP:20260419T193750
CREATED:20240929T094111Z
LAST-MODIFIED:20240929T094111Z
UID:3773-1728108000-1728115200@www.moritzeggert.de
SUMMARY:BR Klassik Auftakt
DESCRIPTION: \n\n\n\n\n\nStanisław Moniuszko: „Halka“\, Mazurka (Staatsphilharmonie Krakau: Roland Bader); Franz Schubert: Polonaise B-Dur\, D 580 (Andreas Janke\, Violine; Tonhalle-Orchester Zürich: David Zinman); Ralph Vaughan Williams: „English Folk Song Suite“ (Nürnberger Symphoniker: Michael Helmrath); Wolfgang Amadeus Mozart: Konzert-Rondo A-Dur\, KV 386 (Matthias Kirschnereit\, Klavier; Bamberger Symphoniker: Frank Beermann); Billy Strayhorn: „Take the A-Train“ (Buffalo Philharmonic Orchestra: JoAnn Falletta); Christoph Willibald Gluck: „Orfeo ed Euridice“\, Reigen seliger Geister (English Baroque Soloists: John Eliot Gardiner); Frigyes Hidas: Oboenkonzert\, Allegro (Lajos Lencsés\, Oboe; SWR Radio-Sinfonieorchester Stuttgart: Alan Gilbert); Joseph Hellmesberger sr.: Ballszene (Göteborger Sinfoniker: Neeme Järvi)\n6.58 Wetterbeobachtungen\n7.00 Nachrichten\, Wetter\nJohann Ludwig Bach: Concerto D-Dur (Stephan Schardt\, Reinhard Goebel\, Violine; Musica Antiqua Köln: Reinhard Goebel); Felix Mendelssohn Bartholdy: Variations concertantes D-Dur\, op. 17 (Sebastian Heß\, Violoncello; Moritz Eggert\, Klavier); Albert Lortzing: „Zar und Zimmermann“\, Holzschuhtanz (WDR Funkhausorchester Köln: Helmuth Froschauer); Giovanni Benedetto Platti: Oboenkonzert g-Moll (Alfredo Bernardini\, Barockoboe; Pratum Integrum Orchestra); Gerónimo Giménez y Bellido: „El baile de Luis Alonso“\, Intermezzo (Orquesta Nacional de España: Rafael Frühbeck de Burgos); Ludovico Einaudi: „I giorni“ (Daniel Hope\, Violine; Jacques Ammon\, Klavier; Deutsches Kammerorchester Berlin: Simon Halsey); Nino Rota: „La passarella di addio“ (Filarmonica Della Scala: Riccardo Muti); Émile Waldteufel: „Fleurs et baisers“ (Staatliche Slowakische Philharmonie Košice: Alfred Walter)\n\n\n\n\n\n\n\n\n\n\n\n\n\n\n\n\n
URL:https://www.moritzeggert.de/termin/br-klassik-auftakt/
END:VEVENT
END:VCALENDAR