BEGIN:VCALENDAR
VERSION:2.0
PRODID:-//Moritz Eggert - ECPv4.9.11//NONSGML v1.0//EN
CALSCALE:GREGORIAN
METHOD:PUBLISH
X-WR-CALNAME:Moritz Eggert
X-ORIGINAL-URL:https://www.moritzeggert.de
X-WR-CALDESC:Veranstaltungen für Moritz Eggert
BEGIN:VTIMEZONE
TZID:Europe/Helsinki
BEGIN:DAYLIGHT
TZOFFSETFROM:+0200
TZOFFSETTO:+0300
TZNAME:EEST
DTSTART:20210328T010000
END:DAYLIGHT
BEGIN:STANDARD
TZOFFSETFROM:+0300
TZOFFSETTO:+0200
TZNAME:EET
DTSTART:20211031T010000
END:STANDARD
END:VTIMEZONE
BEGIN:VEVENT
DTSTART;TZID=Europe/Helsinki:20210629T193000
DTEND;TZID=Europe/Helsinki:20210629T210000
DTSTAMP:20260423T134310
CREATED:20210430T074116Z
LAST-MODIFIED:20210430T074116Z
UID:889-1624995000-1625000400@www.moritzeggert.de
SUMMARY:Blockflötissimo
DESCRIPTION:Werke von Francesco Rognoni\, Bartolomeo de Selma\, G. Ph. Telemann\, J. S. Bach\, François Couperin\, Moritz Eggert\, Fumiharu Yoshimine und anderen \n
URL:https://www.moritzeggert.de/termin/blockfloetissimo/
LOCATION:Musikhochschule Münster\, Ludgeriplatz 1\, Münster\, 48151\, Germany
END:VEVENT
END:VCALENDAR