BEGIN:VCALENDAR
VERSION:2.0
PRODID:-//Moritz Eggert - ECPv4.9.11//NONSGML v1.0//EN
CALSCALE:GREGORIAN
METHOD:PUBLISH
X-WR-CALNAME:Moritz Eggert
X-ORIGINAL-URL:https://www.moritzeggert.de
X-WR-CALDESC:Veranstaltungen für Moritz Eggert
BEGIN:VTIMEZONE
TZID:Europe/Helsinki
BEGIN:DAYLIGHT
TZOFFSETFROM:+0200
TZOFFSETTO:+0300
TZNAME:EEST
DTSTART:20250330T010000
END:DAYLIGHT
BEGIN:STANDARD
TZOFFSETFROM:+0300
TZOFFSETTO:+0200
TZNAME:EET
DTSTART:20251026T010000
END:STANDARD
END:VTIMEZONE
BEGIN:VEVENT
DTSTART;TZID=Europe/Helsinki:20250719T133000
DTEND;TZID=Europe/Helsinki:20250719T140000
DTSTAMP:20260423T082725
CREATED:20250719T090836Z
LAST-MODIFIED:20250719T090836Z
UID:4358-1752931800-1752933600@www.moritzeggert.de
SUMMARY:Blackmail (Chantage)
DESCRIPTION:Frank\, un inspecteur de police\, se dispute avec sa fiancée. Déçue par sa vie de couple\, celle-ci s’amourache d’un peintre qui\, dans son atelier\, veut l’agresser. Elle le poignarde pour se défendre et s’enfuit. Frank\, chargé de l’enquête et ignorant tout\, la soupçonne néanmoins d’être mêlée au crime…\n\nInfos\nTitre originalChantage\nDurée82 min\nActeurAlfred HitchcockAnny OndraJohn LongdenSara AllgoodCharles PatonDonald CalthropCyril RitchardHannah JonesHarvey BrabanJohnny AshbyJohnny ButtPhyllis KonstamEx-Det. Sergt. BishopSam LiveseyPhyllis MonkmanPercy Parsons\nImageC. Wilfred ArnoldNorman G. Arnold\nRéalisateurAlfred Hitchcock\nScénarioAlfred HitchcockBenn W. LevyMichael Powell\nMusiqueJimmy CampbellReginald ConnellyMoritz EggertHubert Bath\nVoix Off VOJoan Barry\n\n
URL:https://www.moritzeggert.de/termin/blackmail-chantage/
LOCATION:Ciné+Classic Belgique\, Belgium
END:VEVENT
END:VCALENDAR