BEGIN:VCALENDAR
VERSION:2.0
PRODID:-//Moritz Eggert - ECPv4.9.11//NONSGML v1.0//EN
CALSCALE:GREGORIAN
METHOD:PUBLISH
X-WR-CALNAME:Moritz Eggert
X-ORIGINAL-URL:https://www.moritzeggert.de
X-WR-CALDESC:Veranstaltungen für Moritz Eggert
BEGIN:VTIMEZONE
TZID:Europe/Helsinki
BEGIN:DAYLIGHT
TZOFFSETFROM:+0200
TZOFFSETTO:+0300
TZNAME:EEST
DTSTART:20250330T010000
END:DAYLIGHT
BEGIN:STANDARD
TZOFFSETFROM:+0300
TZOFFSETTO:+0200
TZNAME:EET
DTSTART:20251026T010000
END:STANDARD
END:VTIMEZONE
BEGIN:VEVENT
DTSTART;TZID=Europe/Helsinki:20250823T180000
DTEND;TZID=Europe/Helsinki:20250823T200000
DTSTAMP:20260423T103842
CREATED:20250810T121216Z
LAST-MODIFIED:20250810T121216Z
UID:4383-1755972000-1755979200@www.moritzeggert.de
SUMMARY:Bayern 2 Lachlabor
DESCRIPTION:„Kann man mit einer Salzstange dirigieren?“ \nMoritz Eggert beantwortet Fragen für Kinder \, mit und von Tina Gentner \n
URL:https://www.moritzeggert.de/termin/bayern-2-lachlabor/
LOCATION:Bayern 2\, Germany
END:VEVENT
END:VCALENDAR