BEGIN:VCALENDAR
VERSION:2.0
PRODID:-//Moritz Eggert - ECPv4.9.11//NONSGML v1.0//EN
CALSCALE:GREGORIAN
METHOD:PUBLISH
X-WR-CALNAME:Moritz Eggert
X-ORIGINAL-URL:https://www.moritzeggert.de
X-WR-CALDESC:Veranstaltungen für Moritz Eggert
BEGIN:VTIMEZONE
TZID:Europe/Helsinki
BEGIN:DAYLIGHT
TZOFFSETFROM:+0200
TZOFFSETTO:+0300
TZNAME:EEST
DTSTART:20230326T010000
END:DAYLIGHT
BEGIN:STANDARD
TZOFFSETFROM:+0300
TZOFFSETTO:+0200
TZNAME:EET
DTSTART:20231029T010000
END:STANDARD
END:VTIMEZONE
BEGIN:VEVENT
DTSTART;TZID=Europe/Helsinki:20230124T193000
DTEND;TZID=Europe/Helsinki:20230124T213000
DTSTAMP:20260422T234650
CREATED:20230125T134832Z
LAST-MODIFIED:20230125T134832Z
UID:2130-1674588600-1674595800@www.moritzeggert.de
SUMMARY:Atelier Zeitgenössische Musik
DESCRIPTION:Toshio Hosokawa (1955*)\nAtemlied\nCarolin Daub\, Blockflöte \n Giacinto Scelsi (1905-1988)\nKho-Lo \nOliver Haeffner\, Flöte\nNikita Kornyushin\, Klarinette \n Luciano Berio (1925-2003)\nSequenza I\nFlorence Flammer\, Flöte \n Dorothée Hahne (1966*)\nDance Macabre\nLydia Dietrich\, Blockflöte \n Gabriela Ortiz (1964*)\nCanto a Hanna\nLydia Dietrich\, Blockflöte \n Peter Ruzicka (*1948)\nDrei Stücke für Klarinette solo\nRiccardo Acciarino\, Klarinette \n Moritz Eggert (1965*)\nAusser Atem\nLouis Grosclaude\, Blockflöten \n Giorgio Tedde (1958*)\nAustro\nLouis Grosclaude\, Blockflöte \n Beat Furrer (1954*)\nTrio\nRobert Burton\, Saxophone\nRiccardo Acciarino\, Klarinette\nFlorence Flammer\, Flöte \nAteliers sind Kammermusikworkshops unter der Leitung von spezialisierten Fachkräften\, in denen zeitgenössische Werke erarbeitet\, einstudiert\, besprochen und aufgeführt werden. Oft sind die Komponist:innen selber anwesend\, sodass die erarbeiteten Lösungen gemeinsam besprochen und offene Fragen geklärt werden können. Die abschliessenden Konzerte ermöglichen dabei oft\, das Schaffen von Komponistenpersönlichkeiten integral kennen- und schätzen zu lernen. \n
URL:https://www.moritzeggert.de/termin/atelier-zeitgenoessische-musik/
LOCATION:Toni-Areal\, Konzertsaal 3\, Ebene 7\, Pfingstweidstraße 96\, Zürich\, Schweiz
END:VEVENT
END:VCALENDAR