BEGIN:VCALENDAR
VERSION:2.0
PRODID:-//Moritz Eggert - ECPv4.9.11//NONSGML v1.0//EN
CALSCALE:GREGORIAN
METHOD:PUBLISH
X-WR-CALNAME:Moritz Eggert
X-ORIGINAL-URL:https://www.moritzeggert.de
X-WR-CALDESC:Veranstaltungen für Moritz Eggert
BEGIN:VTIMEZONE
TZID:Europe/Helsinki
BEGIN:DAYLIGHT
TZOFFSETFROM:+0200
TZOFFSETTO:+0300
TZNAME:EEST
DTSTART:20230326T010000
END:DAYLIGHT
BEGIN:STANDARD
TZOFFSETFROM:+0300
TZOFFSETTO:+0200
TZNAME:EET
DTSTART:20231029T010000
END:STANDARD
END:VTIMEZONE
BEGIN:VEVENT
DTSTART;TZID=Europe/Helsinki:20230702T200000
DTEND;TZID=Europe/Helsinki:20230702T220000
DTSTAMP:20260421T190922
CREATED:20230502T103432Z
LAST-MODIFIED:20230502T103432Z
UID:2854-1688328000-1688335200@www.moritzeggert.de
SUMMARY:ADE:Salon
DESCRIPTION:Komponist:innen der Kompositionsklasse Moritz Eggert und ihre älteren Kolleg:innen treten hier mit dem Ensemble Walzerklang in Dialog. „Klassiker“ der Moderne und zeitgenössische Musik werden in Kürze und kleinem Format eines Salonorchesters weitergedacht. \nMoritz Eggert: s’pressiert (für Salonorchester) URAUFFÜHRUNG \nMitwirkende\nEnsemble Walzerklang Innsbruck \nKomponist:innen\nMoritz Eggert\, Johannes X. Schachtner\, Samuel Penderbayne\, Nina Deuse\, Alexander Strauch\, Bernhard Plechinger\, Eva Kuhn\, Abigél Varga und klassisch-romantische Walzermusik \nEintritt (nur Abendkasse): 12 €\, erm. 10 € \nVeranstaltungsdatum\n02. Juli 2023 um 20:00 Uhr \nVeranstaltungsort\nEinstein Kultur\nEinsteinstr. 42\n81675 München \n
URL:https://www.moritzeggert.de/termin/adesalon/
LOCATION:Einstein Kultur\, Einsteinstraße 42\, München\, 81675\, Germany
END:VEVENT
END:VCALENDAR