BEGIN:VCALENDAR
VERSION:2.0
PRODID:-//Moritz Eggert - ECPv4.9.11//NONSGML v1.0//EN
CALSCALE:GREGORIAN
METHOD:PUBLISH
X-WR-CALNAME:Moritz Eggert
X-ORIGINAL-URL:https://www.moritzeggert.de
X-WR-CALDESC:Veranstaltungen für Moritz Eggert
BEGIN:VTIMEZONE
TZID:Europe/Helsinki
BEGIN:DAYLIGHT
TZOFFSETFROM:+0200
TZOFFSETTO:+0300
TZNAME:EEST
DTSTART:20220327T010000
END:DAYLIGHT
BEGIN:STANDARD
TZOFFSETFROM:+0300
TZOFFSETTO:+0200
TZNAME:EET
DTSTART:20221030T010000
END:STANDARD
END:VTIMEZONE
BEGIN:VEVENT
DTSTART;TZID=Europe/Helsinki:20220828T110000
DTEND;TZID=Europe/Helsinki:20220828T130000
DTSTAMP:20260423T090724
CREATED:20220702T150339Z
LAST-MODIFIED:20220702T150339Z
UID:1759-1661684400-1661691600@www.moritzeggert.de
SUMMARY:999
DESCRIPTION:Programm\nMoritz Eggert\n≫Number Nine IX: Number 9≪ für Chor\, Orchester und Video\, Uraufführung\, Auftragswerk des Beethoven Orchester Bonn \n\nMoritz Eggert\nSinfonie Nr. 999 ≫Die Bönnsche≪\, Uraufführung\, Auftragswerk des Beethoven Orchester Bonn \n\nKartäuserkantorei Köln\nBeethoven Orchester Bonn\nAxel Brüggemann Video\nDirk Kaftan Dirigent\n\n\n
URL:https://www.moritzeggert.de/termin/999/
LOCATION:Oper Bonn\, Am Boeselagerhof 1\, Bonn\, 53111\, Germany
END:VEVENT
END:VCALENDAR