BEGIN:VCALENDAR
VERSION:2.0
PRODID:-//Moritz Eggert - ECPv4.9.11//NONSGML v1.0//EN
CALSCALE:GREGORIAN
METHOD:PUBLISH
X-WR-CALNAME:Moritz Eggert
X-ORIGINAL-URL:https://www.moritzeggert.de
X-WR-CALDESC:Veranstaltungen für Moritz Eggert
BEGIN:VTIMEZONE
TZID:Europe/Helsinki
BEGIN:DAYLIGHT
TZOFFSETFROM:+0200
TZOFFSETTO:+0300
TZNAME:EEST
DTSTART:20240331T010000
END:DAYLIGHT
BEGIN:STANDARD
TZOFFSETFROM:+0300
TZOFFSETTO:+0200
TZNAME:EET
DTSTART:20241027T010000
END:STANDARD
END:VTIMEZONE
BEGIN:VEVENT
DTSTART;TZID=Europe/Helsinki:20241009T143000
DTEND;TZID=Europe/Helsinki:20241009T163000
DTSTAMP:20260419T212040
CREATED:20240903T130929Z
LAST-MODIFIED:20240903T130947Z
UID:3714-1728484200-1728491400@www.moritzeggert.de
SUMMARY:Festakt zum 35. Jahrestag der Friedlichen Revolution
DESCRIPTION:Gedenkveranstaltung zum 9. Oktober 1989 \nGewandhaus Leipzig \nGewandhausorchester Leipzig\, Leitung Semyon Bychkov \nUA Moritz Eggert: „9.10.1989“ für 6 Celli\, Orgel\, Orchester (?) und Performer \nIn Zusammenarbeit mit Michaela Dicu\, Winnie Karnofka und dem Theater der Jungen Welt \n\nLudwig van Beethoven — Ouvertüre zur Oper „Fidelio“ op. 72 \nLudwig van Beethoven — Ouvertüre zu Collins Trauerspiel „Coriolan“ op. 62 \n\n\ngeschlossene Veranstaltung Eintritt nur auf Einladung \nGefördert von der Beauftragten der Bundesregierung für Kultur und Medien \nVeranstalter: Stadt Leipzig und Freistaat Sachsen \n\n
URL:https://www.moritzeggert.de/termin/3714/
LOCATION:Gewandhaus Leipzig\, Leipzig\, Germany
END:VEVENT
END:VCALENDAR